BEGIN:VCALENDAR
VERSION:2.0
PRODID:-//Mainline Maternity Care - ECPv6.15.15//NONSGML v1.0//EN
CALSCALE:GREGORIAN
METHOD:PUBLISH
X-WR-CALNAME:Mainline Maternity Care
X-ORIGINAL-URL:https://mainlinematernitycare.org
X-WR-CALDESC:Events for Mainline Maternity Care
REFRESH-INTERVAL;VALUE=DURATION:PT1H
X-Robots-Tag:noindex
X-PUBLISHED-TTL:PT1H
BEGIN:VTIMEZONE
TZID:America/New_York
BEGIN:DAYLIGHT
TZOFFSETFROM:-0500
TZOFFSETTO:-0400
TZNAME:EDT
DTSTART:20250309T070000
END:DAYLIGHT
BEGIN:STANDARD
TZOFFSETFROM:-0400
TZOFFSETTO:-0500
TZNAME:EST
DTSTART:20251102T060000
END:STANDARD
BEGIN:DAYLIGHT
TZOFFSETFROM:-0500
TZOFFSETTO:-0400
TZNAME:EDT
DTSTART:20260308T070000
END:DAYLIGHT
BEGIN:STANDARD
TZOFFSETFROM:-0400
TZOFFSETTO:-0500
TZNAME:EST
DTSTART:20261101T060000
END:STANDARD
BEGIN:DAYLIGHT
TZOFFSETFROM:-0500
TZOFFSETTO:-0400
TZNAME:EDT
DTSTART:20270314T070000
END:DAYLIGHT
BEGIN:STANDARD
TZOFFSETFROM:-0400
TZOFFSETTO:-0500
TZNAME:EST
DTSTART:20271107T060000
END:STANDARD
END:VTIMEZONE
BEGIN:VEVENT
DTSTART;TZID=America/New_York:20260221T130000
DTEND;TZID=America/New_York:20260221T143000
DTSTAMP:20260421T070730
CREATED:20260130T164319Z
LAST-MODIFIED:20260130T171730Z
UID:10001434-1771678800-1771684200@mainlinematernitycare.org
SUMMARY:Circle Of Care
DESCRIPTION:Creating a Support Network & Strengthening Relationships\n\n\n\nWhat to Expect\n\n\n\n\nUnderstanding why isolation is common during pregnancy and postpartum\n\n\n\nLearning how to build a support circle (family\, friends\, community\, professionals)\n\n\n\nTips for asking for help and setting healthy boundaries\n\n\n\nStrengthening relationships with partners and caregivers\n\n\n\n\nNature-Based Benefits\n\n\n\n\nConnection in Nature Reduces Isolation\n\n\n\nOutdoor group spaces encourage openness and ease.\n\n\n\nNature helps people feel calmer and safer\, making it easier to connect\, share\, and build meaningful support networks\n\n\n\n\nWHO SHOULD ATTEND\n\n\n\nMothers • Partners • Caregivers • Support Persons
URL:https://mainlinematernitycare.org/event/circle-of-care/
LOCATION:Carrie Murray Nature Center\, 1901 Ridgetop Rd\, Baltimore\, Maryland\, 21207\, United States
ATTACH;FMTTYPE=image/webp:https://mainlinematernitycare.org/wp-content/uploads/2026/01/Nourish-Flourish-Circle-of-Care-3.webp
END:VEVENT
END:VCALENDAR