BEGIN:VCALENDAR
VERSION:2.0
PRODID:-//Mainline Maternity Care - ECPv6.15.15//NONSGML v1.0//EN
CALSCALE:GREGORIAN
METHOD:PUBLISH
X-ORIGINAL-URL:https://mainlinematernitycare.org
X-WR-CALDESC:Events for Mainline Maternity Care
REFRESH-INTERVAL;VALUE=DURATION:PT1H
X-Robots-Tag:noindex
X-PUBLISHED-TTL:PT1H
BEGIN:VTIMEZONE
TZID:America/New_York
BEGIN:DAYLIGHT
TZOFFSETFROM:-0500
TZOFFSETTO:-0400
TZNAME:EDT
DTSTART:20240310T070000
END:DAYLIGHT
BEGIN:STANDARD
TZOFFSETFROM:-0400
TZOFFSETTO:-0500
TZNAME:EST
DTSTART:20241103T060000
END:STANDARD
BEGIN:DAYLIGHT
TZOFFSETFROM:-0500
TZOFFSETTO:-0400
TZNAME:EDT
DTSTART:20250309T070000
END:DAYLIGHT
BEGIN:STANDARD
TZOFFSETFROM:-0400
TZOFFSETTO:-0500
TZNAME:EST
DTSTART:20251102T060000
END:STANDARD
BEGIN:DAYLIGHT
TZOFFSETFROM:-0500
TZOFFSETTO:-0400
TZNAME:EDT
DTSTART:20260308T070000
END:DAYLIGHT
BEGIN:STANDARD
TZOFFSETFROM:-0400
TZOFFSETTO:-0500
TZNAME:EST
DTSTART:20261101T060000
END:STANDARD
END:VTIMEZONE
BEGIN:VEVENT
DTSTART;TZID=America/New_York:20251213T140000
DTEND;TZID=America/New_York:20251213T180000
DTSTAMP:20260421T190737
CREATED:20251121T145313Z
LAST-MODIFIED:20251121T145325Z
UID:10001433-1765634400-1765648800@mainlinematernitycare.org
SUMMARY:Candles & Clarity Workshop
DESCRIPTION:Led by our collective member Keona Sparks\, this focused\, 90-minute experience is dedicated to fostering a deeper\, more sustainable relationship with yourself. We cut through the noise to explore what true self-love and authenticity mean in your daily life. \n\n\n\nThe session is designed to be an active\, empowering journey of self-reflection and growth. You will be guided through a series of practical exercises that help you identify what no longer serves your well-being\, allowing you to step into the powerful\, authentic version of yourself. \n\n\n\nCandles & Clarity Workshop\n\n\n\nThis isn’t about quick fixes; it’s about building foundational strength. \n\n\n\nWhat You Will Gain:\n\n\n\n\nPractical Tools: Walk away with concrete methods for nurturing your emotional wellness\, applicable immediately after the workshop.\n\n\n\nMindfulness Techniques: Learn how to anchor yourself in the present moment to reduce stress and increase self-awareness.\n\n\n\nAffirmation Practice: Develop personalized\, effective affirmations to challenge limiting beliefs and reinforce self-compassion.\n\n\n\nJournaling Frameworks: Unlock the power of journaling through structured prompts designed to access and express your inner love and gratitude.\n\n\n\n\nUltimately\, this workshop provides you with the skills to look in the mirror and genuinely love what you see not just for a day\, but every day. \n\n\n\n \n\n\n\n💖 Ready to Commit to Yourself?\n\n\n\nStop putting your own needs last. Seats are limited to ensure a personalized experience with Keona Sparks. Secure your spot now and invest in your emotional freedom. \n\n\n\nReserve Your Seat Today! 📞 Call (908) 899-3233 Email info@keysessentialss.com
URL:https://mainlinematernitycare.org/event/candles-clarity-workshop/
LOCATION:Maryland
ATTACH;FMTTYPE=image/jpeg:https://mainlinematernitycare.org/wp-content/uploads/2025/11/1000059663.jpg
END:VEVENT
END:VCALENDAR