BEGIN:VCALENDAR
VERSION:2.0
PRODID:-//Mainline Maternity Care - ECPv6.15.15//NONSGML v1.0//EN
CALSCALE:GREGORIAN
METHOD:PUBLISH
X-WR-CALNAME:Mainline Maternity Care
X-ORIGINAL-URL:https://mainlinematernitycare.org
X-WR-CALDESC:Events for Mainline Maternity Care
REFRESH-INTERVAL;VALUE=DURATION:PT1H
X-Robots-Tag:noindex
X-PUBLISHED-TTL:PT1H
BEGIN:VTIMEZONE
TZID:America/New_York
BEGIN:DAYLIGHT
TZOFFSETFROM:-0500
TZOFFSETTO:-0400
TZNAME:EDT
DTSTART:20240310T070000
END:DAYLIGHT
BEGIN:STANDARD
TZOFFSETFROM:-0400
TZOFFSETTO:-0500
TZNAME:EST
DTSTART:20241103T060000
END:STANDARD
BEGIN:DAYLIGHT
TZOFFSETFROM:-0500
TZOFFSETTO:-0400
TZNAME:EDT
DTSTART:20250309T070000
END:DAYLIGHT
BEGIN:STANDARD
TZOFFSETFROM:-0400
TZOFFSETTO:-0500
TZNAME:EST
DTSTART:20251102T060000
END:STANDARD
BEGIN:DAYLIGHT
TZOFFSETFROM:-0500
TZOFFSETTO:-0400
TZNAME:EDT
DTSTART:20260308T070000
END:DAYLIGHT
BEGIN:STANDARD
TZOFFSETFROM:-0400
TZOFFSETTO:-0500
TZNAME:EST
DTSTART:20261101T060000
END:STANDARD
END:VTIMEZONE
BEGIN:VEVENT
DTSTART;TZID=America/New_York:20250531T093000
DTEND;TZID=America/New_York:20250531T140000
DTSTAMP:20260422T043905
CREATED:20250503T155813Z
LAST-MODIFIED:20250507T214931Z
UID:10001394-1748683800-1748700000@mainlinematernitycare.org
SUMMARY:Beyond The Birth and Into Parenthood: The Fourth Trimester Uncovered
DESCRIPTION:Welcome to “Beyond The Birth and Into Parenthood: The Fourth Trimester Uncovered” \n\n\n\nYou’ve planned for the birth\, but what about after the baby arrives? \n\n\n\nJoin us for “Beyond The Birth and Into Parenthood: The Fourth Trimester Uncovered”\, a transformative postpartum class designed to support new and expectant parents as they navigate the real-life experiences of early parenthood. Hosted by Kimberly S. Myers\, IBCLC and founder of Pregnancy Concepts\, this class dives into the often-overlooked period known as the fourth trimester—the first 12 weeks after childbirth—offering realistic\, compassionate guidance as you transition from birth to baby life. \n\n\n\nThis class is perfect for parents in any stage of pregnancy or newly postpartum\, and includes practical\, evidence-based information across three essential areas: \n\n\n\n🌿 Understanding Postpartum\n\n\n\n\nWhat is the fourth trimester and why it matters\n\n\n\nPhysical recovery and emotional shifts\n\n\n\nCommon postpartum warning signs\n\n\n\nHormonal changes and mental health (for mom and partner)\n\n\n\nCreating a personalized postpartum plan\n\n\n\n\n👶 Understanding Newborns\n\n\n\n\nWhat to expect: newborn appearance & behavior\n\n\n\nThe importance of skin-to-skin contact\n\n\n\nUnderstanding your baby’s cues\, cries\, and rhythms\n\n\n\nBuilding confidence in your newborn care instincts\n\n\n\n\n🧡 Understanding Family Transition\n\n\n\n\nWhat the shift into parenthood really looks like\n\n\n\nSupporting the emotional and relational changes for both parents\n\n\n\nNavigating new roles\, expectations\, and communication\n\n\n\n\nWhether this is your first baby or a new chapter in your parenting journey\, this class will help you feel more prepared\, empowered\, and connected. \n\n\n\nConnect with Kimberly Myers\n\n\n\nLinkedin | InstagramEmail: askus@pregnancyconcepts.comWebsite: https://www.pregnancyconcepts.com
URL:https://mainlinematernitycare.org/event/beyond-the-birth-and-into-parenthood-the-fourth-trimester-uncovered/
LOCATION:Maryland
END:VEVENT
END:VCALENDAR