BEGIN:VCALENDAR
VERSION:2.0
PRODID:-//Mainline Maternity Care - ECPv6.15.15//NONSGML v1.0//EN
CALSCALE:GREGORIAN
METHOD:PUBLISH
X-WR-CALNAME:Mainline Maternity Care
X-ORIGINAL-URL:https://mainlinematernitycare.org
X-WR-CALDESC:Events for Mainline Maternity Care
REFRESH-INTERVAL;VALUE=DURATION:PT1H
X-Robots-Tag:noindex
X-PUBLISHED-TTL:PT1H
BEGIN:VTIMEZONE
TZID:America/New_York
BEGIN:DAYLIGHT
TZOFFSETFROM:-0500
TZOFFSETTO:-0400
TZNAME:EDT
DTSTART:20240310T070000
END:DAYLIGHT
BEGIN:STANDARD
TZOFFSETFROM:-0400
TZOFFSETTO:-0500
TZNAME:EST
DTSTART:20241103T060000
END:STANDARD
BEGIN:DAYLIGHT
TZOFFSETFROM:-0500
TZOFFSETTO:-0400
TZNAME:EDT
DTSTART:20250309T070000
END:DAYLIGHT
BEGIN:STANDARD
TZOFFSETFROM:-0400
TZOFFSETTO:-0500
TZNAME:EST
DTSTART:20251102T060000
END:STANDARD
BEGIN:DAYLIGHT
TZOFFSETFROM:-0500
TZOFFSETTO:-0400
TZNAME:EDT
DTSTART:20260308T070000
END:DAYLIGHT
BEGIN:STANDARD
TZOFFSETFROM:-0400
TZOFFSETTO:-0500
TZNAME:EST
DTSTART:20261101T060000
END:STANDARD
END:VTIMEZONE
BEGIN:VEVENT
DTSTART;TZID=America/New_York:20250515T183000
DTEND;TZID=America/New_York:20250515T193000
DTSTAMP:20260422T062109
CREATED:20250503T044345Z
LAST-MODIFIED:20250503T044348Z
UID:10001391-1747333800-1747337400@mainlinematernitycare.org
SUMMARY:Zumba Thursdays After Work Party
DESCRIPTION:Stay on track with your fitness goals! Join us for another round of Zumba Thursday’s After Work Party on May 15th\, 2025\, from 6:30 PM – 7:30 PM. Consistency is key\, and we’re here to help you stay accountable while having fun. Don’t let work stress you out; unwind with a high-energy workout that’s designed to make you feel great! \n\n\n\nWhether you’re looking to shake off the stress of your day\, build a routine\, or simply move your body\, this high-energy Zumba class has you covered. Every other Thursday\, we create an uplifting space where you can dance at your own pace and feel empowered by every move you make. \n\n\n\n\n\n\n\nLed by Keona Sparks\, our Empowerment Liaison Coach and certified CPR instructor\, each session combines fitness with mental clarity\, giving you the support you need to grow stronger\, physically and mentally.  \n\n\n\nNo matter where you are on your fitness journey\, this judgment-free space welcomes you! Zumba is more than just cardio; it’s a community where you can connect\, laugh\, and move to the rhythm of your own beat. \n\n\n\nJoin us Zumba Thursday’s After Work Party at KANVAS\, 3870 Lancaster Ave\, Philadelphia\, PA 19104. Classes are just $20 for an hour of movement\, connection\, and pure fun! Let’s make progress together\, one dance step at a time! 💃🕺 \n\n\n\nNext class: May 15th\, 6:30 PMCost: $20 per classUse the QR code or follow @sparkskeona and @keys_essentials for updates! \n\n\n\nLet’s keep the momentum going and hit those fitness goals together! Register now to save your spot! \n\n\n\nConnect with Keona \n\n\n\nFacebook | Linkedin | InstagramEmail: info@keysessentialss.com
URL:https://mainlinematernitycare.org/event/zumba-thursdays-after-work-party/
LOCATION:Maryland
ATTACH;FMTTYPE=image/jpeg:https://mainlinematernitycare.org/wp-content/uploads/2025/05/Screenshot_20250408_111219_Canva.jpg
END:VEVENT
END:VCALENDAR