BEGIN:VCALENDAR
VERSION:2.0
PRODID:-//Mainline Maternity Care - ECPv6.15.15//NONSGML v1.0//EN
CALSCALE:GREGORIAN
METHOD:PUBLISH
X-WR-CALNAME:Mainline Maternity Care
X-ORIGINAL-URL:https://mainlinematernitycare.org
X-WR-CALDESC:Events for Mainline Maternity Care
REFRESH-INTERVAL;VALUE=DURATION:PT1H
X-Robots-Tag:noindex
X-PUBLISHED-TTL:PT1H
BEGIN:VTIMEZONE
TZID:America/New_York
BEGIN:DAYLIGHT
TZOFFSETFROM:-0500
TZOFFSETTO:-0400
TZNAME:EDT
DTSTART:20240310T070000
END:DAYLIGHT
BEGIN:STANDARD
TZOFFSETFROM:-0400
TZOFFSETTO:-0500
TZNAME:EST
DTSTART:20241103T060000
END:STANDARD
BEGIN:DAYLIGHT
TZOFFSETFROM:-0500
TZOFFSETTO:-0400
TZNAME:EDT
DTSTART:20250309T070000
END:DAYLIGHT
BEGIN:STANDARD
TZOFFSETFROM:-0400
TZOFFSETTO:-0500
TZNAME:EST
DTSTART:20251102T060000
END:STANDARD
BEGIN:DAYLIGHT
TZOFFSETFROM:-0500
TZOFFSETTO:-0400
TZNAME:EDT
DTSTART:20260308T070000
END:DAYLIGHT
BEGIN:STANDARD
TZOFFSETFROM:-0400
TZOFFSETTO:-0500
TZNAME:EST
DTSTART:20261101T060000
END:STANDARD
END:VTIMEZONE
BEGIN:VEVENT
DTSTART;TZID=America/New_York:20250314T180000
DTEND;TZID=America/New_York:20250314T223000
DTSTAMP:20260422T180850
CREATED:20250127T061903Z
LAST-MODIFIED:20250310T204807Z
UID:10001387-1741975200-1741991400@mainlinematernitycare.org
SUMMARY:Two For One: Maternal Health & Maternal Mental Health Symposium
DESCRIPTION:Event Overview\n\n\n\nMainline Maternity Care is excited to host the First Inaugural Maternal Health & Maternal Mental Health 2025 Symposium in Baltimore\, Maryland. This event will bring healthcare professionals\, community advocates\, policymakers\, parents\, and maternal health champions together. The focus is to address the most pressing issues in maternal and infant health. \n\n\n\nThe symposium will focus on the theme “Knowing What’s at Risk.” It will explore the integration of maternal mental health awareness into care strategies to promote reduce disparities in maternal health. Attendees will leave with actionable insights\, new connections\, and a drive to improve outcomes for families locally and beyond. \n\n\n\nMartin’s West 6817 Dogwood Rd Baltimore\, MD 21244 \n\n\n\nRSVP by Purchasing Your Ticket Here:\n\n\n\n\n\n\n\n\n\n\n\n\n\n\n\n\n\n\n\n\n\nWhat to Expect:\n\n\n\nThis evening symposium is packed with engaging features\, including: \n\n\n\n\nKeynote Presentations by leading experts in maternal health\, mental health\, and healthcare innovation. Topics include recognizing high-risk factors\, understanding maternal mental health\, and addressing the disparities impacting underserved communities.\n\n\n\nPanel Discussions featuring thought leaders\, healthcare providers\, and community advocates. will bring together thought leaders\, healthcare providers\, and community advocates. They will explore challenges and solutions in maternal care\, mental wellness\, and the role of social determinants of health (SDOH).\n\n\n\nInteractive Breakout Sessions designed to provide hands-on learning and practical tools for navigating challenges in maternal health\, reducing disparities\, and collaboration.\n\n\n\nResource Fair & Networking Opportunities where attendees can connect with healthcare professionals and organizations\, learn about innovative programs\, and discover services supporting maternal and infant health.\n\n\n\nDinner & Refreshments: Enjoy a delicious dinner and refreshments while networking with other attendees.\n\n\n\nExhibitors where attendees can visit booths offering valuable information\, resources\, and products related to maternal and infant health.\n\n\n\nLIVE Performance from a saxist.\n\n\n\n\n\n\n\n\nWhy You Should Attend The Maternal-Infant Health 2025 Symposium\n\n\n\nThe symposium is more than just an event. It’s an opportunity to be part of a movement that prioritizes the health and well-being of mothers\, infants\, and families. \n\n\n\nBy attending\, you’ll: \n\n\n\n\nGain Knowledge: Learn from top experts about maternal mental health\, disparities in care\, and innovative strategies to improve outcomes.\n\n\n\nCollaborate: Engage with a diverse network of healthcare professionals\, community leaders\, and advocates to share ideas and experiences.\n\n\n\nTake Action: Leave with actionable tools and strategies to drive change in your community or workplace.\n\n\n\nStay Ahead: Gain the latest insights on integrating maternal mental health into standard care practices. Learn how to effectively address critical social determinants of health to improve outcomes for mothers and infants.\n\n\n\n\nThis symposium is ideal for healthcare providers\, including OB/GYNs\, midwives\, nurses\, doulas\, and mental health professionals. It also welcomes policymakers\, community leaders\, and parents committed to addressing the maternal health crisis. \n\n\n\nThis is a ticketed event. Secure your tickets today—no tickets will be sold at the door! \n\n\n\nFor inquiries\, sponsorships\, or additional information\, visit this page or please contact Cynthia Sparks at csparks@mainlinematernitycare.org. \n\n\n\n\n\n\n\n\n\n\n\n\n	\n		\n\n			\n			\n\n							\n					\n						Upcoming Events					\n				\n			\n			\n				\n											\n\n	\n	\n		\n			May		\n		\n			1		\n	\n\n\n	\n		\n			\n\n				\n					\n		\n		8:00 AM – 5:00 PM	\n	\n					\n	\n		Maternal Mental Health Month	\n\n				\n\n				\n			\n		\n	\n\n\n											\n\n	\n	\n		\n			Aug		\n		\n			1		\n	\n\n\n	\n		\n			\n\n				\n					\n		\n		August 1 @ 8:00 AM – August 7 @ 5:00 PM	\n	\n					\n	\n		World Breastfeeding Week	\n\n				\n\n				\n			\n		\n	\n\n\n											\n\n	\n	\n		\n			Sep		\n		\n			1		\n	\n\n\n	\n		\n			\n\n				\n					\n		\n		All day	\n	\n					\n	\n		September is Baby Safety Month	\n\n				\n\n				\n			\n		\n	\n\n\n											\n\n	\n	\n		\n			Sep		\n		\n			20		\n	\n\n\n	\n		\n			\n\n				\n					\n		\n		September 20 – September 26	\n	\n					\n	\n		Child Passenger Safety Week	\n\n				\n\n				\n			\n		\n	\n\n\n											\n\n	\n	\n		\n			Sep		\n		\n			26		\n	\n\n\n	\n		\n			\n\n				\n					\n		\n		All day	\n	\n					\n	\n		National Seat Check Day	\n\n				\n\n				\n			\n		\n	\n\n\n									\n\n				\n	\n		View Calendar
URL:https://mainlinematernitycare.org/event/maternal-health-maternal-mental-health-symposium/
LOCATION:Maryland
ATTACH;FMTTYPE=image/jpeg:https://mainlinematernitycare.org/wp-content/uploads/2025/01/New-MHMHS-Flyer.jpg
END:VEVENT
END:VCALENDAR