BEGIN:VCALENDAR
VERSION:2.0
PRODID:-//Mainline Maternity Care - ECPv6.15.15//NONSGML v1.0//EN
CALSCALE:GREGORIAN
METHOD:PUBLISH
X-ORIGINAL-URL:https://mainlinematernitycare.org
X-WR-CALDESC:Events for Mainline Maternity Care
REFRESH-INTERVAL;VALUE=DURATION:PT1H
X-Robots-Tag:noindex
X-PUBLISHED-TTL:PT1H
BEGIN:VTIMEZONE
TZID:America/New_York
BEGIN:DAYLIGHT
TZOFFSETFROM:-0500
TZOFFSETTO:-0400
TZNAME:EDT
DTSTART:20240310T070000
END:DAYLIGHT
BEGIN:STANDARD
TZOFFSETFROM:-0400
TZOFFSETTO:-0500
TZNAME:EST
DTSTART:20241103T060000
END:STANDARD
BEGIN:DAYLIGHT
TZOFFSETFROM:-0500
TZOFFSETTO:-0400
TZNAME:EDT
DTSTART:20250309T070000
END:DAYLIGHT
BEGIN:STANDARD
TZOFFSETFROM:-0400
TZOFFSETTO:-0500
TZNAME:EST
DTSTART:20251102T060000
END:STANDARD
BEGIN:DAYLIGHT
TZOFFSETFROM:-0500
TZOFFSETTO:-0400
TZNAME:EDT
DTSTART:20260308T070000
END:DAYLIGHT
BEGIN:STANDARD
TZOFFSETFROM:-0400
TZOFFSETTO:-0500
TZNAME:EST
DTSTART:20261101T060000
END:STANDARD
END:VTIMEZONE
BEGIN:VEVENT
DTSTART;TZID=America/New_York:20250215T160000
DTEND;TZID=America/New_York:20250215T200000
DTSTAMP:20260422T181405
CREATED:20250106T031220Z
LAST-MODIFIED:20250106T031226Z
UID:10001383-1739635200-1739649600@mainlinematernitycare.org
SUMMARY:Key’s Essentials Presents: The Annual Self-Love Workshop
DESCRIPTION:Calling All Self-Love Seekers!\n\n\n\nJoin us for Key’s Essentials Annual Self-Love Workshop! This is an interactive workshop designed to help you prioritize your well-being and intentionally pour back into yourself. This workshop offers a nurturing space to reconnect with yourself\, surrounded by like-minded individuals who understand the importance of self-care. After all\, you must be love yourself in order to love others.  \n\n\n\nWhy You Should Join:\n\n\n\n\nThroughout the workshop\, you’ll experience:\n\nSelf-care activities designed to leave you feeling refreshed\, rejuvenated\, and balanced—nourishing both your body and spirit.\n\n\n\nGuided journaling to help you let go of negativity\, gain clarity\, and cultivate a deeper connection with your true self.\n\n\n\nInteractive discussions that encourage personal growth\, open up new perspectives\, and inspire greater self-awareness.\n\n\n\nComplex Angel\, our guest speaker\, will share powerful insights and practical advice to help you embrace your self-love journey with confidence.\n\n\n\n Enjoy a delicious dinner and drinks\, all while relaxing in a welcoming atmosphere that fosters connection and healing.\n\n\n\nExplore our vendor showcase\, where you’ll find a curated selection of self-care products and services to support your well-being long after the event ends.\n\n\n\n\n\n\n \n\n\n\nBy the end of this workshop\, you’ll leave feeling recharged\, valued\, and equipped with tools to prioritize yourself every day.  \n\n\n\nThis workshop is more than just a day of pampering—it’s about learning how to nourish yourself so you can show up fully in your life and for others. Your well-being isn’t a luxury\, it’s a necessity. Make the commitment to love yourself… on purpose. \n\n\n\nIt’s time to treat yourself to a well-deserved break. Get your ticket and reserve your spot today! You don’t want to miss this!  \n\n\n\nFor questions or more information about the event\, or if you’re interested in hosting your own workshop; reach out to us at 267-917-7727 or email keysessentials@mail.com.Follow us on Facebook & Instagram.
URL:https://mainlinematernitycare.org/event/keys-essentials-presents-the-annual-self-love-workshop/
LOCATION:Maryland
ATTACH;FMTTYPE=image/heic:https://mainlinematernitycare.org/wp-content/uploads/2025/01/2E783027-DBB5-4478-834D-8B3DE4D5DA04.jpg
END:VEVENT
END:VCALENDAR