BEGIN:VCALENDAR
VERSION:2.0
PRODID:-//Mainline Maternity Care - ECPv6.15.15//NONSGML v1.0//EN
CALSCALE:GREGORIAN
METHOD:PUBLISH
X-ORIGINAL-URL:https://mainlinematernitycare.org
X-WR-CALDESC:Events for Mainline Maternity Care
REFRESH-INTERVAL;VALUE=DURATION:PT1H
X-Robots-Tag:noindex
X-PUBLISHED-TTL:PT1H
BEGIN:VTIMEZONE
TZID:America/New_York
BEGIN:DAYLIGHT
TZOFFSETFROM:-0500
TZOFFSETTO:-0400
TZNAME:EDT
DTSTART:20240310T070000
END:DAYLIGHT
BEGIN:STANDARD
TZOFFSETFROM:-0400
TZOFFSETTO:-0500
TZNAME:EST
DTSTART:20241103T060000
END:STANDARD
BEGIN:DAYLIGHT
TZOFFSETFROM:-0500
TZOFFSETTO:-0400
TZNAME:EDT
DTSTART:20250309T070000
END:DAYLIGHT
BEGIN:STANDARD
TZOFFSETFROM:-0400
TZOFFSETTO:-0500
TZNAME:EST
DTSTART:20251102T060000
END:STANDARD
BEGIN:DAYLIGHT
TZOFFSETFROM:-0500
TZOFFSETTO:-0400
TZNAME:EDT
DTSTART:20260308T070000
END:DAYLIGHT
BEGIN:STANDARD
TZOFFSETFROM:-0400
TZOFFSETTO:-0500
TZNAME:EST
DTSTART:20261101T060000
END:STANDARD
END:VTIMEZONE
BEGIN:VEVENT
DTSTART;TZID=America/New_York:20250202T140000
DTEND;TZID=America/New_York:20250202T170000
DTSTAMP:20260422T232716
CREATED:20250115T212941Z
LAST-MODIFIED:20250115T214034Z
UID:10001385-1738504800-1738515600@mainlinematernitycare.org
SUMMARY:MMCC Key Essentials: Glow Getters Goals Setters Vision Board & Candle Creation Workshop
DESCRIPTION:Join us for an inspiring and empowering afternoon of creativity\, intention-setting\, and connection at our Glow Getters Goals Setters Vision Board & Candle Creation Workshop!\n\n\n\nThis isn’t your average vision board party. We’re taking manifestation to the next level by combining the power of visualization with the art of candle making. \n\n\n\nThis workshop offers a unique blend of creative expression and focused intention-setting to help you manifest your goals. Through hands-on activities and guided exercises\, you’ll gain clarity on your aspirations and develop a deeper connection to your inner drive. \n\n\n\nThis workshop is ideal for individuals seeking clarity\, motivation\, and a tangible way to manifest their aspirations. No prior experience with vision boards or candle making is required. \n\n\n\nDate: February 2nd Time: 2:00 PM – 5:00 PM Location: 1433 W Girard Ave\, Philadelphia\, PA 19130 Cost: $60 \n\n\n\nHere’s what you’ll experience:\n\n\n\n\nLearn the art of candle making: Craft your own personalized candle infused with essential oils and intentions. As you pour your candle\, you’ll be solidifying your commitment to your goals and inviting positive energy into your life.\n\n\n\nGuided Visualization and Journaling: Our experienced facilitators will guide you through powerful visualization exercises and journaling prompts to help you clarify your vision and connect with your inner wisdom.\n\n\n\nConnect with Like-Minded Souls: Share your dreams and aspirations with a supportive community of like-minded individuals. This is a safe and encouraging space to connect\, inspire\, and be inspired.\n\n\n\n\nBenefits of Attending:\n\n\n\n\nIncreased Self-Awareness: Gain a clearer understanding of your goals and what truly matters to you.\n\n\n\nEnhanced Focus: Develop a stronger sense of direction and purpose.\n\n\n\nElevated Confidence: Strengthen your belief in your ability to achieve your dreams.\n\n\n\nCreative Expression: Tap into your creativity and express yourself through art.\n\n\n\nTangible Takeaways: Leave with a personalized vision board and candle to serve as daily reminders of your intentions.\n\n\n\n\n\n\n\n\nLet’s make some candles and use them to help us manifest the life we truly desire!  \n\n\n\nFollow the Founder & Owner of Key’s Essentials here. \n\n\n\n\n\n\n\n\n\n\n\n\n\n\n\n\n\n\n\n\n\n\n\n\n	\n		\n\n			\n			\n\n							\n					\n						Upcoming Events					\n				\n			\n			\n				\n											\n\n	\n	\n		\n			May		\n		\n			1		\n	\n\n\n	\n		\n			\n\n				\n					\n		\n		8:00 AM – 5:00 PM	\n	\n					\n	\n		Maternal Mental Health Month	\n\n				\n\n				\n			\n		\n	\n\n\n											\n\n	\n	\n		\n			Aug		\n		\n			1		\n	\n\n\n	\n		\n			\n\n				\n					\n		\n		August 1 @ 8:00 AM – August 7 @ 5:00 PM	\n	\n					\n	\n		World Breastfeeding Week	\n\n				\n\n				\n			\n		\n	\n\n\n											\n\n	\n	\n		\n			Sep		\n		\n			1		\n	\n\n\n	\n		\n			\n\n				\n					\n		\n		All day	\n	\n					\n	\n		September is Baby Safety Month	\n\n				\n\n				\n			\n		\n	\n\n\n											\n\n	\n	\n		\n			Sep		\n		\n			20		\n	\n\n\n	\n		\n			\n\n				\n					\n		\n		September 20 – September 26	\n	\n					\n	\n		Child Passenger Safety Week	\n\n				\n\n				\n			\n		\n	\n\n\n											\n\n	\n	\n		\n			Sep		\n		\n			26		\n	\n\n\n	\n		\n			\n\n				\n					\n		\n		All day	\n	\n					\n	\n		National Seat Check Day	\n\n				\n\n				\n			\n		\n	\n\n\n									\n\n				\n	\n		View Calendar
URL:https://mainlinematernitycare.org/event/vision-board-candle-creation-workshop/
LOCATION:Sistah Scents\, 1433 W Girard Ave\, Philadelphia\, Pennsylvania\, 19130\, United States
ATTACH;FMTTYPE=image/heic:https://mainlinematernitycare.org/wp-content/uploads/2025/01/IMG_0769.jpg
END:VEVENT
END:VCALENDAR