BEGIN:VCALENDAR
VERSION:2.0
PRODID:-//Mainline Maternity Care - ECPv6.15.15//NONSGML v1.0//EN
CALSCALE:GREGORIAN
METHOD:PUBLISH
X-ORIGINAL-URL:https://mainlinematernitycare.org
X-WR-CALDESC:Events for Mainline Maternity Care
REFRESH-INTERVAL;VALUE=DURATION:PT1H
X-Robots-Tag:noindex
X-PUBLISHED-TTL:PT1H
BEGIN:VTIMEZONE
TZID:America/New_York
BEGIN:DAYLIGHT
TZOFFSETFROM:-0500
TZOFFSETTO:-0400
TZNAME:EDT
DTSTART:20230312T070000
END:DAYLIGHT
BEGIN:STANDARD
TZOFFSETFROM:-0400
TZOFFSETTO:-0500
TZNAME:EST
DTSTART:20231105T060000
END:STANDARD
BEGIN:DAYLIGHT
TZOFFSETFROM:-0500
TZOFFSETTO:-0400
TZNAME:EDT
DTSTART:20240310T070000
END:DAYLIGHT
BEGIN:STANDARD
TZOFFSETFROM:-0400
TZOFFSETTO:-0500
TZNAME:EST
DTSTART:20241103T060000
END:STANDARD
BEGIN:DAYLIGHT
TZOFFSETFROM:-0500
TZOFFSETTO:-0400
TZNAME:EDT
DTSTART:20250309T070000
END:DAYLIGHT
BEGIN:STANDARD
TZOFFSETFROM:-0400
TZOFFSETTO:-0500
TZNAME:EST
DTSTART:20251102T060000
END:STANDARD
END:VTIMEZONE
BEGIN:VEVENT
DTSTART;TZID=America/New_York:20241215T120000
DTEND;TZID=America/New_York:20241215T131500
DTSTAMP:20260422T193948
CREATED:20241227T052659Z
LAST-MODIFIED:20241227T052702Z
UID:10001380-1734264000-1734268500@mainlinematernitycare.org
SUMMARY:Mainline Maternity Community Collective
DESCRIPTION:Join us in a 75-minute session to learn more about the Mainline Maternity Community Collective 2025 Strategic Planning Meeting. \n\n\n\nThe Mainline Maternity Community Collective (MMCC) is hosting its 2025 Strategic Planning Meeting\, focused on building a stronger\, healthier Baltimore County community for mothers\, infants\, and children. \n\n\n\nAt this meeting\, you’ll: \n\n\n\n\nGain insights: Learn about the current state of maternal and child health in the United States and identify key challenges facing our community.\n\n\n\nExplore MMCC’s vision: Discover the MMCC’s mission\, core values\, and strategic goals for the year 2025.\n\n\n\nHear about proposed projects: Explore innovative project ideas aimed at reducing maternal and infant mortality\, improving access to care\, and empowering families.\n\n\n\nLearn how to get involved: Discover opportunities to become a member of the MMCC\, participate in events\, and contribute your skills and expertise to our collective efforts.\n\n\n\n\nThis is your chance to: \n\n\n\n\nMake a difference: Join a dedicated group of individuals passionate about improving the health and well-being of mothers\, babies\, and children in Baltimore County.\n\n\n\nCollaborate with others: Connect with other healthcare professionals\, community leaders\, and advocates working towards a common goal.\n\n\n\nShape the future of maternal and child health: Contribute your ideas and insights to the MMCC’s strategic planning process.\n\n\n\n\nWe invite you to join us for this important session and be a part of building a healthier future for our community. \n\n\n\nRegister now here.
URL:https://mainlinematernitycare.org/event/mainline-maternity-community-collective/
LOCATION:Virtual Meeting
ATTACH;FMTTYPE=image/jpeg:https://mainlinematernitycare.org/wp-content/uploads/2024/12/MMCC-Meeting.jpg
ORGANIZER;CN="Cynthia Sparks%2C RN":MAILTO:csparks@mainlinematernity.org
END:VEVENT
END:VCALENDAR