BEGIN:VCALENDAR
VERSION:2.0
PRODID:-//Mainline Maternity Care - ECPv6.15.15//NONSGML v1.0//EN
CALSCALE:GREGORIAN
METHOD:PUBLISH
X-WR-CALNAME:Mainline Maternity Care
X-ORIGINAL-URL:https://mainlinematernitycare.org
X-WR-CALDESC:Events for Mainline Maternity Care
REFRESH-INTERVAL;VALUE=DURATION:PT1H
X-Robots-Tag:noindex
X-PUBLISHED-TTL:PT1H
BEGIN:VTIMEZONE
TZID:America/New_York
BEGIN:DAYLIGHT
TZOFFSETFROM:-0500
TZOFFSETTO:-0400
TZNAME:EDT
DTSTART:20240310T070000
END:DAYLIGHT
BEGIN:STANDARD
TZOFFSETFROM:-0400
TZOFFSETTO:-0500
TZNAME:EST
DTSTART:20241103T060000
END:STANDARD
BEGIN:DAYLIGHT
TZOFFSETFROM:-0500
TZOFFSETTO:-0400
TZNAME:EDT
DTSTART:20250309T070000
END:DAYLIGHT
BEGIN:STANDARD
TZOFFSETFROM:-0400
TZOFFSETTO:-0500
TZNAME:EST
DTSTART:20251102T060000
END:STANDARD
BEGIN:DAYLIGHT
TZOFFSETFROM:-0500
TZOFFSETTO:-0400
TZNAME:EDT
DTSTART:20260308T070000
END:DAYLIGHT
BEGIN:STANDARD
TZOFFSETFROM:-0400
TZOFFSETTO:-0500
TZNAME:EST
DTSTART:20261101T060000
END:STANDARD
END:VTIMEZONE
BEGIN:VEVENT
DTSTART;TZID=America/New_York:20251101T000000
DTEND;TZID=America/New_York:20251101T235959
DTSTAMP:20260421T111738
CREATED:20251030T034832Z
LAST-MODIFIED:20251030T051655Z
UID:10001412-1761955200-1762041599@mainlinematernitycare.org
SUMMARY:Prematurity Awareness Month
DESCRIPTION:Every November\, we pause to talk about something too many families live through quietly\, babies born too soon. Prematurity Awareness Month is a time to raise understanding of what it means to start life in the NICU\, the challenges that follow\, and the strength it takes to get through it. \n\n\n\nThis month exists because prematurity is still a leading cause of newborn illness and death around the world. Behind every statistic is a family learning to navigate alarms\, feeding tubes\, and long nights of uncertainty. It’s also a story of skill; the nurses\, respiratory therapists\, and providers who work every shift to help these smallest patients grow stronger. \n\n\n\nWe observe it in November to honor the global work led by health organizations and communities focused on preterm birth prevention and care. It’s a chance to share what’s been learned\, where care still falls short\, and how we can do better\, from prenatal education and early intervention to family-centered NICU support. \n\n\n\nEven if you haven’t lived it personally\, this month is an invitation to learn\, support\, and speak up for preterm infants and their families. Real awareness starts with understanding that prematurity isn’t rare\, and that small voices need big advocacy. \n\n\n\n\n	\n		\n\n			\n			\n\n							\n					\n						Upcoming Events					\n				\n			\n			\n				\n											\n\n	\n	\n		\n			May		\n		\n			1		\n	\n\n\n	\n		\n			\n\n				\n					\n		\n		8:00 AM – 5:00 PM	\n	\n					\n	\n		Maternal Mental Health Month	\n\n				\n\n				\n			\n		\n	\n\n\n											\n\n	\n	\n		\n			Aug		\n		\n			1		\n	\n\n\n	\n		\n			\n\n				\n					\n		\n		August 1 @ 8:00 AM – August 7 @ 5:00 PM	\n	\n					\n	\n		World Breastfeeding Week	\n\n				\n\n				\n			\n		\n	\n\n\n											\n\n	\n	\n		\n			Sep		\n		\n			1		\n	\n\n\n	\n		\n			\n\n				\n					\n		\n		All day	\n	\n					\n	\n		September is Baby Safety Month	\n\n				\n\n				\n			\n		\n	\n\n\n											\n\n	\n	\n		\n			Sep		\n		\n			20		\n	\n\n\n	\n		\n			\n\n				\n					\n		\n		September 20 – September 26	\n	\n					\n	\n		Child Passenger Safety Week	\n\n				\n\n				\n			\n		\n	\n\n\n											\n\n	\n	\n		\n			Sep		\n		\n			26		\n	\n\n\n	\n		\n			\n\n				\n					\n		\n		All day	\n	\n					\n	\n		National Seat Check Day	\n\n				\n\n				\n			\n		\n	\n\n\n									\n\n				\n	\n		View Calendar
URL:https://mainlinematernitycare.org/event/prematurity-awareness-month/
LOCATION:Maryland
CATEGORIES:Awareness & Observances
END:VEVENT
BEGIN:VEVENT
DTSTART;TZID=America/New_York:20251101T100000
DTEND;TZID=America/New_York:20251101T140000
DTSTAMP:20260421T111738
CREATED:20251111T043231Z
LAST-MODIFIED:20251111T045619Z
UID:10001431-1761991200-1762005600@mainlinematernitycare.org
SUMMARY:Together We Heal: Building Resilience in Black Women After Pregnancy & Infant Loss Forum
DESCRIPTION:Join us for Together We Heal\, an interactive wellness forum centered on mental health\, grief\, and resilience for Black women navigating pregnancy and infant loss. This gathering brings together mothers\, healthcare professionals\, and community advocates for a day of connection\, education\, and emotional restoration.Through storytelling\, expert insights\, and shared experiences\, attendees will gain practical tools to support emotional healing and build lasting resilience. \n\n\n\n\n\n\n\nLook at this line up! Proud to announce that joining us for the Together We Heal: Building Resilience in Black Women After Pregnancy & Infant Loss Forum is…. \n\n\n\n Sadija A. Smiley (@ssmileyconsulting) – Host\, grief advocate\, and founder of Stillborn And Infant Loss Support (SAILS)\, transforming personal loss into a mission of healing. \n\n\n\n Dr. Stephanie Hack\, MD\, MPH (@ladypartsdoc) – Board-certified OB-GYN and founder of Lady Parts Doctor\, passionate about women’s health education and advocacy. \n\n\n\nDr. Arielle N. Jordan\, PhD\, LCPC (@dr.ariellejordan) – Nationally recognized trauma therapist\, veteran\, and founder of Mindset Quality and Mission REDEFINE. \n\n\n\n Antwanette Summers – Certified doula\, founder of Carried in My Heart\, and graduate student in mental health counseling. \n\n\n\n Dominique Stiger-Davis – Bereaved mother and advocate honoring her son Levi through storytelling and community engagement. \n\n\n\n Amber-Paige Davis – Massage Educational Consultant and Raindrop & VitaFlex Practitioner. \n\n\n\nPresented by:Stillborn And Infant Loss Support (SAILS)In partnership with the Black Physicians & Healthcare Network (BPHN) and the National Center for Children and Families (NCCF) \n\n\n\n\nREGISTER NOW
URL:https://mainlinematernitycare.org/event/together-we-heal-building-resilience-in-black-women-after-pregnancy-infant-loss-forum/
LOCATION:Maryland
CATEGORIES:Support Groups
ATTACH;FMTTYPE=image/jpeg:https://mainlinematernitycare.org/wp-content/uploads/2025/11/image000001.jpg
END:VEVENT
BEGIN:VEVENT
DTSTART;TZID=America/New_York:20251105T110000
DTEND;TZID=America/New_York:20251105T123000
DTSTAMP:20260421T111738
CREATED:20251107T145529Z
LAST-MODIFIED:20251107T152616Z
UID:10001422-1762340400-1762345800@mainlinematernitycare.org
SUMMARY:The Judy Center Workshop
DESCRIPTION:Mainline Maternity Care and the Judy Center are partnering to bring maternal health education directly to families in the Featherbed Elementary community. Led by Cynthia Sparks\, RN\, Maternal–Newborn Nurse and CEO of Mainline Maternity Care\, this session supports moms during pregnancy and the postpartum period with evidence-based information and practical guidance. \n\n\n\n\nParticipants will learn key maternal and newborn care topics\, including:\n\n\n\nUnderstanding postpartum recovery and mental health\n\n\n\nBreastfeeding and lactation support basics\n\n\n\nSafe newborn care and comfort techniques.\n\n\n\nWhen and how to seek extra help.\n\n\n\n\nEach session provides a welcoming space for questions\, shared learning\, and connection. Moms who wish to receive personalized\, one-on-one support can schedule an individual consultation after the workshop. \n\n\n\nThis initiative bridges the gap many women face after hospital discharge\, ensuring continued care and learning within their own community. Having a nurse embedded in the neighborhood helps extend support beyond the delivery room; empowering moms to care for themselves as a whole (mind\, body\, and spirit). Because when mothers are well\, children and families succeed. \n\n\n\nEach session offers space for questions\, discussion\, and shared experience. Moms who want more personalized guidance can schedule a one-on-one consultation after the workshop. \n\n\n\nDisclaimer:\n\n\n\nThis program is exclusively for families affiliated with Featherbed Lane Elementary School (students\, parents\, or guardians). Registration is required via The Judy Center. \n\n\n\nFor additional questions you can reach out to: \n\n\n\nEmail: csparks@mainlinematernitycare.org
URL:https://mainlinematernitycare.org/event/the-judy-center-workshop/2025-11-05/
LOCATION:Maryland
CATEGORIES:Education & Workshops
END:VEVENT
BEGIN:VEVENT
DTSTART;TZID=America/New_York:20251118T110000
DTEND;TZID=America/New_York:20251118T123000
DTSTAMP:20260421T111738
CREATED:20251031T063654Z
LAST-MODIFIED:20251031T142119Z
UID:10001417-1763463600-1763469000@mainlinematernitycare.org
SUMMARY:Nurture in Nature — Tue Nov 18
DESCRIPTION:Join Mainline Maternity Care’s inaugural Nurture in Nature series at the Carrie Murray Nature Center on November 18th from 11:00am to 12:30pm. This workshop blends mental wellness\, mindfulness\, and movement\, inspired by the healing power of nature. Step outside the stress of daily life and into natures serenity. Our hope is to create a space where mothers can slow down\, breathe\, and feel restored; mind\, body\, and spirit. \n\n\n\nDetails📍 Carrie Murray Nature Center\, 1901 Ridgetop Rd\, Baltimore\, MD🕚 11:00 AM – 12:30 PM💵 $5 registration fee (includes materials)☔ In case of bad weather\, we’ll move indoors—same time\, same good vibes. \n\n\n\n\n\n\n\nAbout the SeriesNurture in Nature is part of Mainline’s ongoing maternal mental health initiative designed to reduce stress\, isolation\, and burnout among mothers and caregivers. The workshops offer low-cost\, evidence-informed activities that promote connection\, relaxation\, and wellness. Each session stands alone but complements the others\, allowing participants to return monthly for continued support. \n\n\n\nWhat You’ll Experience\n\n\n\n\nSimple grounding to soothe your nervous system\n\n\n\nSeated reflection circle “Mental Health Check In”\n\n\n\nTree Pose for Tension Release – gentle Yoga and breath reset\n\n\n\nRock Painting with affirmations for our “Kindness Garden”\n\n\n\nGratitude Journaling surrounded by nature’s peace \n\n\n\n\nWho Should Attend\n\n\n\nThis session is for mothers\, caregivers\, and women seeking peace\, self-awareness and reconnection. Let the forest hold space for YOUR HEALING\, one deep breath\, one grounding step\, one moment at a time. \n\n\n\nWhat to Bring\n\n\n\n\nBring water\, comfortable clothes\, and your whole self\, however you’re feeling that day.\n\n\n\n\nQuestions? \n\n\n\nEmail csparks@mainlinematernitycare.org or visit mainlinematernitycare.org. \n\n\n\nReserve your spot today! 
URL:https://mainlinematernitycare.org/event/nurture-in-nature-tue-nov-18/
LOCATION:Carrie Murray Nature Center\, 1901 Ridgetop Rd\, Baltimore\, Maryland\, 21207\, United States
CATEGORIES:Family & Community Events
ATTACH;FMTTYPE=image/jpeg:https://mainlinematernitycare.org/wp-content/uploads/2025/10/Carrie-Murray-Flyer.jpg
END:VEVENT
BEGIN:VEVENT
DTSTART;TZID=America/New_York:20251119T110000
DTEND;TZID=America/New_York:20251119T123000
DTSTAMP:20260421T111738
CREATED:20251107T153534Z
LAST-MODIFIED:20251107T193100Z
UID:10001423-1763550000-1763555400@mainlinematernitycare.org
SUMMARY:The Judy Center Workshop
DESCRIPTION:Mainline Maternity Care and the Judy Center are partnering to bring maternal health education directly to families in the Featherbed Elementary community. Led by Cynthia Sparks\, RN\, Maternal–Newborn Nurse and CEO of Mainline Maternity Care\, this session supports moms during pregnancy and the postpartum period with evidence-based information and practical guidance. \n\n\n\n\nParticipants will learn key maternal and newborn care topics\, including:\n\n\n\nUnderstanding postpartum recovery and mental health\n\n\n\nBreastfeeding and lactation support basics\n\n\n\nSafe newborn care and comfort techniques.\n\n\n\nWhen and how to seek extra help.\n\n\n\n\nEach session provides a welcoming space for questions\, shared learning\, and connection. Moms who wish to receive personalized\, one-on-one support can schedule an individual consultation after the workshop. \n\n\n\nThis initiative bridges the gap many women face after hospital discharge\, ensuring continued care and learning within their own community. Having a nurse embedded in the neighborhood helps extend support beyond the delivery room; empowering moms to care for themselves as a whole (mind\, body\, and spirit). Because when mothers are well\, children and families succeed. \n\n\n\nEach session offers space for questions\, discussion\, and shared experience. Moms who want more personalized guidance can schedule a one-on-one consultation after the workshop. \n\n\n\nDisclaimer:\n\n\n\nThis program is exclusively for families affiliated with a Judy Center\, if you are eligible for our services. Reach out to facilitator to obtain the discount code.  \n\n\n\nFor additional questions you can reach out to: \n\n\n\nEmail: csparks@mainlinematernitycare.org
URL:https://mainlinematernitycare.org/event/the-judy-center-workshop-2/
LOCATION:Maryland
CATEGORIES:Education & Workshops
END:VEVENT
END:VCALENDAR