BEGIN:VCALENDAR
VERSION:2.0
PRODID:-//Mainline Maternity Care - ECPv6.15.15//NONSGML v1.0//EN
CALSCALE:GREGORIAN
METHOD:PUBLISH
X-ORIGINAL-URL:https://mainlinematernitycare.org
X-WR-CALDESC:Events for Mainline Maternity Care
REFRESH-INTERVAL;VALUE=DURATION:PT1H
X-Robots-Tag:noindex
X-PUBLISHED-TTL:PT1H
BEGIN:VTIMEZONE
TZID:America/New_York
BEGIN:DAYLIGHT
TZOFFSETFROM:-0500
TZOFFSETTO:-0400
TZNAME:EDT
DTSTART:20240310T070000
END:DAYLIGHT
BEGIN:STANDARD
TZOFFSETFROM:-0400
TZOFFSETTO:-0500
TZNAME:EST
DTSTART:20241103T060000
END:STANDARD
BEGIN:DAYLIGHT
TZOFFSETFROM:-0500
TZOFFSETTO:-0400
TZNAME:EDT
DTSTART:20250309T070000
END:DAYLIGHT
BEGIN:STANDARD
TZOFFSETFROM:-0400
TZOFFSETTO:-0500
TZNAME:EST
DTSTART:20251102T060000
END:STANDARD
BEGIN:DAYLIGHT
TZOFFSETFROM:-0500
TZOFFSETTO:-0400
TZNAME:EDT
DTSTART:20260308T070000
END:DAYLIGHT
BEGIN:STANDARD
TZOFFSETFROM:-0400
TZOFFSETTO:-0500
TZNAME:EST
DTSTART:20261101T060000
END:STANDARD
END:VTIMEZONE
BEGIN:VEVENT
DTSTART;TZID=America/New_York:20250808T140000
DTEND;TZID=America/New_York:20250808T160000
DTSTAMP:20260421T175549
CREATED:20250727T034333Z
LAST-MODIFIED:20250924T050855Z
UID:10001406-1754661600-1754668800@mainlinematernitycare.org
SUMMARY:Lactation Education & Support at Pikesville Library
DESCRIPTION:Join Mainline Maternity Care and Nurse Cynthia for a free\, in-person Lactation Education & Support class at the Pikesville Library. In honor of World Breastfeeding Week\, this session is designed to support you on your breastfeeding journey\, offering guidance\, tools\, and community support. \n\n\n\nHere are the details:\n\n\n\nPikesville Library1301 Reisterstown Rd\, Pikesville\, MD 21208August 8\, 2025\, 2:00 PM – 4 PM \n\n\n\nLed by a nurse and certified lactation specialist\, this session will focus on the foundations of lactation including how milk production works\, how to establish a good latch\, feeding cues to look for\, and common myths and challenges around breastfeeding. The class is designed to offer evidence-based guidance in a supportive\, welcoming environment. \n\n\n\nThis lactation class is ideal for:– Pregnant individuals planning to breastfeed– New moms navigating the early days of nursing– Support partners who want to learn how to help \n\n\n\n\n\n\n\nFor a deeper understanding of infant feeding\, this class provides a comprehensive overview for anyone interested.You’ll leave with practical tips\, resources\, and a better understanding of how breastfeeding works\, not just physically\, but emotionally and socially\, too. \n\n\n\n\n\n\n\nAll Class Dates & Locations:\n\n\n\n\n August 1st – Woodlawn Library from 2pm-4pm\n\n\n\n August 6th – Randallstown Community Center Library from 11 am-1pm\n\n\n\n August 8th – Pikesville Library from 2m-4pm\n\n\n\n\nAll sessions will run for 2 hours. Attendance is free\, but registration is required. \n\n\n\nThis is a great opportunity to ask questions\, get encouragement\, and connect with other parents. We look forward to supporting you! \n\n\n\n\n\n\n\n\n\n\n	\n		\n\n			\n			\n\n							\n					\n						Upcoming Events					\n				\n			\n			\n				\n			\n			\n	\n		\n		\n		\n		\n	\n\n\n	Notice\n							\n					There are no upcoming events.
URL:https://mainlinematernitycare.org/event/lactation-education-support-at-pikesville-library/
CATEGORIES:Education & Workshops
ATTACH;FMTTYPE=image/jpeg:https://mainlinematernitycare.org/wp-content/uploads/2025/07/PIKESVILLEE-scaled.jpg
END:VEVENT
END:VCALENDAR