BEGIN:VCALENDAR
VERSION:2.0
PRODID:-//Mainline Maternity Care - ECPv6.15.15//NONSGML v1.0//EN
CALSCALE:GREGORIAN
METHOD:PUBLISH
X-ORIGINAL-URL:https://mainlinematernitycare.org
X-WR-CALDESC:Events for Mainline Maternity Care
REFRESH-INTERVAL;VALUE=DURATION:PT1H
X-Robots-Tag:noindex
X-PUBLISHED-TTL:PT1H
BEGIN:VTIMEZONE
TZID:America/New_York
BEGIN:DAYLIGHT
TZOFFSETFROM:-0500
TZOFFSETTO:-0400
TZNAME:EDT
DTSTART:20240310T070000
END:DAYLIGHT
BEGIN:STANDARD
TZOFFSETFROM:-0400
TZOFFSETTO:-0500
TZNAME:EST
DTSTART:20241103T060000
END:STANDARD
BEGIN:DAYLIGHT
TZOFFSETFROM:-0500
TZOFFSETTO:-0400
TZNAME:EDT
DTSTART:20250309T070000
END:DAYLIGHT
BEGIN:STANDARD
TZOFFSETFROM:-0400
TZOFFSETTO:-0500
TZNAME:EST
DTSTART:20251102T060000
END:STANDARD
BEGIN:DAYLIGHT
TZOFFSETFROM:-0500
TZOFFSETTO:-0400
TZNAME:EDT
DTSTART:20260308T070000
END:DAYLIGHT
BEGIN:STANDARD
TZOFFSETFROM:-0400
TZOFFSETTO:-0500
TZNAME:EST
DTSTART:20261101T060000
END:STANDARD
END:VTIMEZONE
BEGIN:VEVENT
DTSTART;TZID=America/New_York:20250802T120000
DTEND;TZID=America/New_York:20250802T160000
DTSTAMP:20260421T195531
CREATED:20250718T121541Z
LAST-MODIFIED:20250924T051123Z
UID:10001402-1754136000-1754150400@mainlinematernitycare.org
SUMMARY:Randallstown Community Center Pop-Up Shop
DESCRIPTION:Join Us at the Randallstown Community Center – August 2nd!\n\n\n\nMainline Maternity Care will be vending at a vibrant community pop-up market hosted at the Randallstown Community Center on Saturday\, August 2\, 2025\, from 12–4 PM. \n\n\n\nThis family-friendly event is all about uplifting local entrepreneurs and bringing the community together through purposeful shopping and connection. \n\n\n\nWhat to Expect:\n\n\n\n\nExplore local Black-owned businesses and service providers\n\n\n\nShop wellness products\, services\, and resources for moms and families\n\n\n\nLearn more about Mainline Maternity Care’s in-home offerings and community-based programs\n\n\n\nMeet our team and grab some free goodies!\n\n\n\n\nWhether you’re an expecting parent\, new mom\, or simply curious about what we do—we’d love to see you there.
URL:https://mainlinematernitycare.org/event/randallstown-community-center-pop-up-shop/
LOCATION:Maryland
CATEGORIES:Family & Community Events
ATTACH;FMTTYPE=image/jpeg:https://mainlinematernitycare.org/wp-content/uploads/2025/07/5bf79e426316caa7847079f21425fc1093063a4af70da8d9a97ceb861d6d6f63-rimg-w1200-h851-dc785e4a-gmir-1.jpg
END:VEVENT
END:VCALENDAR