BEGIN:VCALENDAR
VERSION:2.0
PRODID:-//Mainline Maternity Care - ECPv6.15.15//NONSGML v1.0//EN
CALSCALE:GREGORIAN
METHOD:PUBLISH
X-ORIGINAL-URL:https://mainlinematernitycare.org
X-WR-CALDESC:Events for Mainline Maternity Care
REFRESH-INTERVAL;VALUE=DURATION:PT1H
X-Robots-Tag:noindex
X-PUBLISHED-TTL:PT1H
BEGIN:VTIMEZONE
TZID:America/New_York
BEGIN:DAYLIGHT
TZOFFSETFROM:-0500
TZOFFSETTO:-0400
TZNAME:EDT
DTSTART:20240310T070000
END:DAYLIGHT
BEGIN:STANDARD
TZOFFSETFROM:-0400
TZOFFSETTO:-0500
TZNAME:EST
DTSTART:20241103T060000
END:STANDARD
BEGIN:DAYLIGHT
TZOFFSETFROM:-0500
TZOFFSETTO:-0400
TZNAME:EDT
DTSTART:20250309T070000
END:DAYLIGHT
BEGIN:STANDARD
TZOFFSETFROM:-0400
TZOFFSETTO:-0500
TZNAME:EST
DTSTART:20251102T060000
END:STANDARD
BEGIN:DAYLIGHT
TZOFFSETFROM:-0500
TZOFFSETTO:-0400
TZNAME:EDT
DTSTART:20260308T070000
END:DAYLIGHT
BEGIN:STANDARD
TZOFFSETFROM:-0400
TZOFFSETTO:-0500
TZNAME:EST
DTSTART:20261101T060000
END:STANDARD
END:VTIMEZONE
BEGIN:VEVENT
DTSTART;TZID=America/New_York:20250411T110000
DTEND;TZID=America/New_York:20250411T140000
DTSTAMP:20260422T032358
CREATED:20250726T033149Z
LAST-MODIFIED:20250726T033152Z
UID:10001388-1744369200-1744380000@mainlinematernitycare.org
SUMMARY:3rd Annual Leaders in Black Maternal Health Awards Luncheon
DESCRIPTION:Mainline Maternity Care is proud to be a part of the 3rd Annual Baltimore Healthy Start “Our Babies Are More Precious Than Gold” Leaders in Black Maternal Health Awards Luncheon. Join us for an inspiring afternoon on Friday\, April 11\, 2025\, from 11:00 AM to 2:00 PM at the prestigious Reginald F. Lewis Museum of Maryland African American History & Culture\, located at 830 E Pratt St\, Baltimore\, MD 21202. \n\n\n\nThis momentous occasion celebrates the remarkable individuals and organizations dedicated to improving Black maternal health outcomes in our community. We honor the tireless efforts of advocates\, healthcare professionals\, and community leaders who champion equitable and respectful care for Black mothers and families. \n\n\n\n3rd Annual Leaders in Black Maternal Health Awards Luncheon\n\n\n\nThis year’s event will honor: \n\n\n\n\nAdeline Atack\, Leadership Award\n\n\n\nDelegate Pena Melnyk\, Advocacy Award\n\n\n\nDr. Diane Rowley\, Visionary Award\n\n\n\nDr. Arthur James\, Champion Award\n\n\n\nPamika Lee\, Lillian Armstrong Service Award\n\n\n\n\nThe event will also recognize several men who have been impactful in the field of maternal health: \n\n\n\n\nCFUF CEO\, Joseph Jones\n\n\n\nFormer City Council President Nick Mosby\n\n\n\nAMCHP CEO\, Terrance Moore\n\n\n\nSenator Cory V. McCray\n\n\n\n\nAttire: Wear your best Spring or floral attire for this garden party themed event! \n\n\n\nThe luncheon provides a platform to connect with fellow advocates\, community partners\, and healthcare providers while celebrating the strides made in Black maternal health. \n\n\n\nTickets are $85 and can be purchased on Eventbrite: https://www.eventbrite.com/e/3rd-annual-leaders-in-black-maternal-health-awards-luncheon-tickets-1245483688239 \n\n\n\nFor those interested in supporting this vital work\, sponsorship opportunities are available! Your generous contribution will help us continue to empower Black mothers and families. \n\n\n\nFor additional information and sponsorship inquiries\, please visit baltimorehealthystart.org or call 410.675.2125. \n\n\n\nJoin us as we celebrate the progress made\, acknowledge the challenges ahead\, and reaffirm our commitment to ensuring that our babies are more precious than gold. We look forward to your presence at this inspiring event! \n\n\n\n\n	\n		\n\n			\n			\n\n							\n					\n						Upcoming Events					\n				\n			\n			\n				\n											\n\n	\n	\n		\n			May		\n		\n			1		\n	\n\n\n	\n		\n			\n\n				\n					\n		\n		8:00 AM – 5:00 PM	\n	\n					\n	\n		Maternal Mental Health Month	\n\n				\n\n				\n			\n		\n	\n\n\n											\n\n	\n	\n		\n			Aug		\n		\n			1		\n	\n\n\n	\n		\n			\n\n				\n					\n		\n		August 1 @ 8:00 AM – August 7 @ 5:00 PM	\n	\n					\n	\n		World Breastfeeding Week	\n\n				\n\n				\n			\n		\n	\n\n\n											\n\n	\n	\n		\n			Sep		\n		\n			1		\n	\n\n\n	\n		\n			\n\n				\n					\n		\n		All day	\n	\n					\n	\n		September is Baby Safety Month	\n\n				\n\n				\n			\n		\n	\n\n\n											\n\n	\n	\n		\n			Sep		\n		\n			20		\n	\n\n\n	\n		\n			\n\n				\n					\n		\n		September 20 – September 26	\n	\n					\n	\n		Child Passenger Safety Week	\n\n				\n\n				\n			\n		\n	\n\n\n											\n\n	\n	\n		\n			Sep		\n		\n			26		\n	\n\n\n	\n		\n			\n\n				\n					\n		\n		All day	\n	\n					\n	\n		National Seat Check Day	\n\n				\n\n				\n			\n		\n	\n\n\n									\n\n				\n	\n		View Calendar
URL:https://mainlinematernitycare.org/event/3rd-annual-leaders-in-black-maternal-health-awards-luncheon/
LOCATION:Maryland
ATTACH;FMTTYPE=image/jpeg:https://mainlinematernitycare.org/wp-content/uploads/2025/02/IMG_0488.jpeg
END:VEVENT
END:VCALENDAR