BEGIN:VCALENDAR
VERSION:2.0
PRODID:-//Mainline Maternity Care - ECPv6.15.15//NONSGML v1.0//EN
CALSCALE:GREGORIAN
METHOD:PUBLISH
X-ORIGINAL-URL:https://mainlinematernitycare.org
X-WR-CALDESC:Events for Mainline Maternity Care
REFRESH-INTERVAL;VALUE=DURATION:PT1H
X-Robots-Tag:noindex
X-PUBLISHED-TTL:PT1H
BEGIN:VTIMEZONE
TZID:America/New_York
BEGIN:DAYLIGHT
TZOFFSETFROM:-0500
TZOFFSETTO:-0400
TZNAME:EDT
DTSTART:20240310T070000
END:DAYLIGHT
BEGIN:STANDARD
TZOFFSETFROM:-0400
TZOFFSETTO:-0500
TZNAME:EST
DTSTART:20241103T060000
END:STANDARD
BEGIN:DAYLIGHT
TZOFFSETFROM:-0500
TZOFFSETTO:-0400
TZNAME:EDT
DTSTART:20250309T070000
END:DAYLIGHT
BEGIN:STANDARD
TZOFFSETFROM:-0400
TZOFFSETTO:-0500
TZNAME:EST
DTSTART:20251102T060000
END:STANDARD
BEGIN:DAYLIGHT
TZOFFSETFROM:-0500
TZOFFSETTO:-0400
TZNAME:EDT
DTSTART:20260308T070000
END:DAYLIGHT
BEGIN:STANDARD
TZOFFSETFROM:-0400
TZOFFSETTO:-0500
TZNAME:EST
DTSTART:20261101T060000
END:STANDARD
END:VTIMEZONE
BEGIN:VEVENT
DTSTART;TZID=America/New_York:20250222T100000
DTEND;TZID=America/New_York:20250222T140000
DTSTAMP:20260422T065054
CREATED:20250106T040341Z
LAST-MODIFIED:20250106T040343Z
UID:10001382-1740218400-1740232800@mainlinematernitycare.org
SUMMARY:Randallstown Library Black Business Event
DESCRIPTION:Mainline Maternity Care is back at it again this year\, join us at the Randallstown Library Black Business Event in Baltimore County. It’s a celebration of the ingenuity and creativity of Black-owned businesses in our community. \n\n\n\nHere are the details: \n\n\n\nRandallstown Baltimore County LibraryRandallstown Library Black Business EventSaturday\, February 22\, 2025 @ 10:00 AM – 2:00 PM8604 Liberty Rd\, Randallstown\, MD 21133 \n\n\n\nWhat to Expect:\n\n\n\n\nMeet the Makers: Connect directly with talented\, local entrepreneurs and learn about their passion projects. Chat with them about their products and services\, and discover the stories behind their businesses.\n\n\n\nExplore a Wide Variety of Offerings: Find unique and handcrafted goods\, from delicious treats and stylish clothing to home decor and personalized gifts. Discover a range of services\, including financial planning\, hair care\, home improvement\, and much more.\n\n\n\nSupport Local Talent: By shopping at this event\, you’re not just buying a product; you’re investing in the success of local businesses and contributing to the growth of our community.\n\n\n\nEnjoy a Community Gathering: Spend a fun-filled afternoon connecting with neighbors\, discovering new businesses\, and celebrating the vibrant spirit of our community.\n\n\n\n\nThis is an event you dont want to miss\, make sure you get in the room. You never know your next partnership or client is waiting for you\, meet them half way. Visit Randallstown BCPL library here for more events.  \n\n\n\n\n\n\n\n\n\n\n\n\n\nCheck out our other events here.  \n\n\n\n\n	\n		\n\n			\n			\n\n							\n					\n						Upcoming Events					\n				\n			\n			\n				\n											\n\n	\n	\n		\n			May		\n		\n			1		\n	\n\n\n	\n		\n			\n\n				\n					\n		\n		8:00 AM – 5:00 PM	\n	\n					\n	\n		Maternal Mental Health Month	\n\n				\n\n				\n			\n		\n	\n\n\n											\n\n	\n	\n		\n			Aug		\n		\n			1		\n	\n\n\n	\n		\n			\n\n				\n					\n		\n		August 1 @ 8:00 AM – August 7 @ 5:00 PM	\n	\n					\n	\n		World Breastfeeding Week	\n\n				\n\n				\n			\n		\n	\n\n\n											\n\n	\n	\n		\n			Sep		\n		\n			1		\n	\n\n\n	\n		\n			\n\n				\n					\n		\n		All day	\n	\n					\n	\n		September is Baby Safety Month	\n\n				\n\n				\n			\n		\n	\n\n\n											\n\n	\n	\n		\n			Sep		\n		\n			20		\n	\n\n\n	\n		\n			\n\n				\n					\n		\n		September 20 – September 26	\n	\n					\n	\n		Child Passenger Safety Week	\n\n				\n\n				\n			\n		\n	\n\n\n											\n\n	\n	\n		\n			Sep		\n		\n			26		\n	\n\n\n	\n		\n			\n\n				\n					\n		\n		All day	\n	\n					\n	\n		National Seat Check Day	\n\n				\n\n				\n			\n		\n	\n\n\n									\n\n				\n	\n		View Calendar
URL:https://mainlinematernitycare.org/event/randallstown-library-black-business-event/
LOCATION:Randallstown Library\, 8604 Liberty Road\, Randallstown\, Maryland\, 21133\, United States
ATTACH;FMTTYPE=image/jpeg:https://mainlinematernitycare.org/wp-content/uploads/2025/01/IMG_8451.jpg
END:VEVENT
END:VCALENDAR